BEGIN:VCALENDAR
VERSION:2.0
PRODID:-//SVP Luzern //NONSGML Events //EN
CALSCALE:GREGORIAN
X-WR-CALNAME:SVP Luzern
BEGIN:VEVENT
CREATED:20181213T162311Z
UID:10340
DTEND:20190110T200000
DTSTART:20190110T193000
DTSTAMP:20231024T055131Z
LOCATION:Zentrum Linde\, Dorfstrasse 5\, 6242 Wauwil
DESCRIPTION:
SUMMARY:Sessionsrückblick mit Franz Grüter und Felix Müri
ORGANIZER:
URL;VALUE=URI:https://www.svp-lu.ch/termine/sessionsrueckblick-mit-franz-grueter-und-felix-mueri/
TRANSP:OPAQUE
END:VEVENT
END:VCALENDAR
