BEGIN:VCALENDAR
VERSION:2.0
PRODID:-//SVP Luzern //NONSGML Events //EN
CALSCALE:GREGORIAN
X-WR-CALNAME:SVP Luzern
BEGIN:VEVENT
CREATED:20181221T111412Z
UID:10379
DTEND:20190106T000000
DTSTART:20181222T000000
DTSTAMP:20231024T060423Z
LOCATION:
DESCRIPTION:Weihnachtsferien
SUMMARY:Schulferien Kanton Luzern
ORGANIZER:Ferien
URL;VALUE=URI:https://www.svp-lu.ch/termine/schulferien-kanton-luzern/
TRANSP:OPAQUE
END:VEVENT
END:VCALENDAR
