BEGIN:VCALENDAR
VERSION:2.0
PRODID:-//SVP Luzern //NONSGML Events //EN
CALSCALE:GREGORIAN
X-WR-CALNAME:SVP Luzern
BEGIN:VEVENT
CREATED:20181221T111412Z
UID:10380
DTEND:20190101T000000
DTSTART:20190101T000000
DTSTAMP:20231024T060024Z
LOCATION:
DESCRIPTION:
SUMMARY:Neujahrstag
ORGANIZER:Feiertag
URL;VALUE=URI:https://www.svp-lu.ch/termine/neujahrstag/
TRANSP:OPAQUE
END:VEVENT
END:VCALENDAR
