BEGIN:VCALENDAR
VERSION:2.0
PRODID:-//SVP Luzern //NONSGML Events //EN
CALSCALE:GREGORIAN
X-WR-CALNAME:SVP Luzern
BEGIN:VEVENT
CREATED:20181221T111412Z
UID:10382
DTEND:20190105T120000
DTSTART:20190104T140000
DTSTAMP:20231024T060335Z
LOCATION:Horn TG
DESCRIPTION:Nachmittag/Vormittag
SUMMARY:„Bad Horn“-Tagung
ORGANIZER:SVP CH
URL;VALUE=URI:https://www.svp-lu.ch/termine/bad-horn-tagung/
TRANSP:OPAQUE
END:VEVENT
END:VCALENDAR
