BEGIN:VCALENDAR
VERSION:2.0
PRODID:-//SVP Luzern //NONSGML Events //EN
CALSCALE:GREGORIAN
X-WR-CALNAME:SVP Luzern
BEGIN:VEVENT
CREATED:20181221T111412Z
UID:10384
DTEND:20190117T220000
DTSTART:20190117T193000
DTSTAMP:20231024T055509Z
LOCATION:Rest. Vogelsang\, Eich
DESCRIPTION:Abend
SUMMARY:Sitzung Parteileitung 2019/01
ORGANIZER:SVP LU
URL;VALUE=URI:https://www.svp-lu.ch/termine/sitzung-parteileitung-2019-01/
TRANSP:OPAQUE
END:VEVENT
END:VCALENDAR
