BEGIN:VCALENDAR
VERSION:2.0
PRODID:-//SVP Luzern //NONSGML Events //EN
CALSCALE:GREGORIAN
X-WR-CALNAME:SVP Luzern
BEGIN:VEVENT
CREATED:20181221T111412Z
UID:10385
DTEND:20190123T180000
DTSTART:20190123T140000
DTSTAMP:20231024T054958Z
LOCATION:Hotel Adler\, (Ess-Saal) Haupstrasse 14\, 6170 Schüpfheim
DESCRIPTION:Eingang Hauptstrasse benutzen.
SUMMARY:Kant. Fraktionssitzung
ORGANIZER:SVP LU
URL;VALUE=URI:https://www.svp-lu.ch/termine/kant-fraktionssitzung-3/
TRANSP:OPAQUE
END:VEVENT
END:VCALENDAR
