BEGIN:VCALENDAR
VERSION:2.0
PRODID:-//SVP Luzern //NONSGML Events //EN
CALSCALE:GREGORIAN
X-WR-CALNAME:SVP Luzern
BEGIN:VEVENT
CREATED:20181221T111412Z
UID:10386
DTEND:20190124T220000
DTSTART:20190124T200000
DTSTAMP:20231024T055551Z
LOCATION:Hotel Adler (Adlersaal)\, Hauptstrasse 16\, 6170 Schüpfheim
DESCRIPTION:Einladung DV 24.01.2018
SUMMARY:Kant. Delegiertenversammlung
ORGANIZER:SVP LU
URL;VALUE=URI:https://www.svp-lu.ch/termine/kant-delegiertenversammlung-3/
TRANSP:OPAQUE
END:VEVENT
END:VCALENDAR
