BEGIN:VCALENDAR
VERSION:2.0
PRODID:-//SVP Luzern //NONSGML Events //EN
CALSCALE:GREGORIAN
X-WR-CALNAME:SVP Luzern
BEGIN:VEVENT
CREATED:20181221T111412Z
UID:10387
DTEND:20190125T190000
DTSTART:20190125T140000
DTSTAMP:20231024T060221Z
LOCATION:Gossau SG
DESCRIPTION:Nachmittag
SUMMARY:Parteileitung/Parteivorstand mit Sekretären
ORGANIZER:SVP CH
URL;VALUE=URI:https://www.svp-lu.ch/termine/parteileitung-parteivorstand-mit-sekretaeren-2/
TRANSP:OPAQUE
END:VEVENT
END:VCALENDAR
