BEGIN:VCALENDAR
VERSION:2.0
PRODID:-//SVP Luzern //NONSGML Events //EN
CALSCALE:GREGORIAN
X-WR-CALNAME:SVP Luzern
BEGIN:VEVENT
CREATED:20181221T111412Z
UID:10388
DTEND:20190126T151500
DTSTART:20190126T103000
DTSTAMP:20231024T055700Z
LOCATION:Fürstenlandsaal\, Bahnhofstrasse 29\, in Gossau (SG)
DESCRIPTION:Situationsplan (PDF) Zugverbindungen (PDF) Einladung (PDF)
SUMMARY:Eidg. Delegiertenversammlung
ORGANIZER:SVP CH
URL;VALUE=URI:https://www.svp-lu.ch/termine/eidg-delegiertenversammlung/
TRANSP:OPAQUE
END:VEVENT
END:VCALENDAR
