BEGIN:VCALENDAR
VERSION:2.0
PRODID:-//SVP Luzern //NONSGML Events //EN
CALSCALE:GREGORIAN
X-WR-CALNAME:SVP Luzern
BEGIN:VEVENT
CREATED:20181221T111412Z
UID:10390
DTEND:20190131T220000
DTSTART:20190131T180000
DTSTAMP:20231024T055745Z
LOCATION:
DESCRIPTION:Abend
SUMMARY:Grossstadtratssitzung Luzern
ORGANIZER:
URL;VALUE=URI:https://www.svp-lu.ch/termine/grossstadtratssitzung-luzern/
TRANSP:OPAQUE
END:VEVENT
END:VCALENDAR
