BEGIN:VCALENDAR
VERSION:2.0
PRODID:-//SVP Luzern //NONSGML Events //EN
CALSCALE:GREGORIAN
X-WR-CALNAME:SVP Luzern
BEGIN:VEVENT
CREATED:20181221T111412Z
UID:10392
DTEND:20190202T130000
DTSTART:20190202T080000
DTSTAMP:20231024T055207Z
LOCATION:Begegnungszentrum Schenkon (Schulhausstrasse 4)\, Grosser Saal
DESCRIPTION:[gravityform id="5" title="true" description="true"]
SUMMARY:Kadertagung SVP Kanton Luzern
ORGANIZER:SVP LU
URL;VALUE=URI:https://www.svp-lu.ch/termine/kadertagung-svp-kanton-luzern/
TRANSP:OPAQUE
END:VEVENT
END:VCALENDAR
