BEGIN:VCALENDAR
VERSION:2.0
PRODID:-//SVP Luzern //NONSGML Events //EN
CALSCALE:GREGORIAN
X-WR-CALNAME:SVP Luzern
BEGIN:VEVENT
CREATED:20181221T111413Z
UID:10393
DTEND:20190210T120000
DTSTART:20190210T000000
DTSTAMP:20231024T055900Z
LOCATION:
DESCRIPTION:Eidgenössische Abstimmung;  Zersiedlungsinitiative
SUMMARY:Eidg. und Kant. Abstimmungen
ORGANIZER:Abstimmungen
URL;VALUE=URI:https://www.svp-lu.ch/termine/eidg-und-kant-abstimmungen-2/
TRANSP:OPAQUE
END:VEVENT
END:VCALENDAR
