BEGIN:VCALENDAR
VERSION:2.0
PRODID:-//SVP Luzern //NONSGML Events //EN
CALSCALE:GREGORIAN
X-WR-CALNAME:SVP Luzern
BEGIN:VEVENT
CREATED:20181221T111413Z
UID:10394
DTEND:20190212T180000
DTSTART:20190212T160000
DTSTAMP:20231024T060316Z
LOCATION:Luzern Stadt\, Torbogen beim Bahnhof
DESCRIPTION:
SUMMARY:Tour de Canton/ SVP bi dä Lüüt
ORGANIZER:SVP LU
URL;VALUE=URI:https://www.svp-lu.ch/termine/tour-de-canton-gewerblertreffen/
TRANSP:OPAQUE
END:VEVENT
END:VCALENDAR
