BEGIN:VCALENDAR
VERSION:2.0
PRODID:-//SVP Luzern //NONSGML Events //EN
CALSCALE:GREGORIAN
X-WR-CALNAME:SVP Luzern
BEGIN:VEVENT
CREATED:20181221T111413Z
UID:10396
DTEND:20190221T220000
DTSTART:20190221T180000
DTSTAMP:20231024T055220Z
LOCATION:Aula SH Zentrum
DESCRIPTION:Abend
SUMMARY:Einwohnerratsstizung Horw
ORGANIZER:
URL;VALUE=URI:https://www.svp-lu.ch/termine/einwohnerratsstizung-horw-2/
TRANSP:OPAQUE
END:VEVENT
END:VCALENDAR
