BEGIN:VCALENDAR
VERSION:2.0
PRODID:-//SVP Luzern //NONSGML Events //EN
CALSCALE:GREGORIAN
X-WR-CALNAME:SVP Luzern
BEGIN:VEVENT
CREATED:20181221T111413Z
UID:10398
DTEND:20190222T173000
DTSTART:20190222T143000
DTSTAMP:20231024T055252Z
LOCATION:Willisau
DESCRIPTION:Nachmittag
SUMMARY:Fraktionsvorstand/Fraktionssitzung
ORGANIZER:SVP CH
URL;VALUE=URI:https://www.svp-lu.ch/termine/fraktionsvorstand-fraktionssitzung-4/
TRANSP:OPAQUE
END:VEVENT
END:VCALENDAR
