BEGIN:VCALENDAR
VERSION:2.0
PRODID:-//SVP Luzern //NONSGML Events //EN
CALSCALE:GREGORIAN
X-WR-CALNAME:SVP Luzern
BEGIN:VEVENT
CREATED:20181221T111413Z
UID:10401
DTEND:20190223T160000
DTSTART:20190223T093000
DTSTAMP:20231024T055827Z
LOCATION:Festhalle Willisau
DESCRIPTION:
SUMMARY:SVP-Jasscup
ORGANIZER:SVP CH
URL;VALUE=URI:https://www.svp-lu.ch/termine/svp-jasscup/
TRANSP:OPAQUE
END:VEVENT
END:VCALENDAR
