BEGIN:VCALENDAR
VERSION:2.0
PRODID:-//SVP Luzern //NONSGML Events //EN
CALSCALE:GREGORIAN
X-WR-CALNAME:SVP Luzern
BEGIN:VEVENT
CREATED:20181221T111414Z
UID:10407
DTEND:20190306T220000
DTSTART:20190306T190000
DTSTAMP:20231024T055647Z
LOCATION:Restaurant Rössli\, Wolhusen
DESCRIPTION:
SUMMARY:Aschermittwoch-Anlass
ORGANIZER:SVP LU
URL;VALUE=URI:https://www.svp-lu.ch/termine/aschermittwoch-anlass/
TRANSP:OPAQUE
END:VEVENT
END:VCALENDAR
