BEGIN:VCALENDAR
VERSION:2.0
PRODID:-//SVP Luzern //NONSGML Events //EN
CALSCALE:GREGORIAN
X-WR-CALNAME:SVP Luzern
BEGIN:VEVENT
CREATED:20181221T111414Z
UID:10408
DTEND:20190308T000000
DTSTART:20190308T000000
DTSTAMP:20231024T055914Z
LOCATION:
DESCRIPTION:
SUMMARY:Versand Wahlzeitung Kurier
ORGANIZER:SVP LU
URL;VALUE=URI:https://www.svp-lu.ch/termine/versand-wahlzeitung-kurier/
TRANSP:OPAQUE
END:VEVENT
END:VCALENDAR
