BEGIN:VCALENDAR
VERSION:2.0
PRODID:-//SVP Luzern //NONSGML Events //EN
CALSCALE:GREGORIAN
X-WR-CALNAME:SVP Luzern
BEGIN:VEVENT
CREATED:20181221T111414Z
UID:10409
DTEND:20190312T220000
DTSTART:20190312T180000
DTSTAMP:20231024T054845Z
LOCATION:Bern
DESCRIPTION:Abend
SUMMARY:Treffen SVP-Bundeshausfraktion mit den kantonalen Fraktionspräsidenten
ORGANIZER:SVP CH
URL;VALUE=URI:https://www.svp-lu.ch/termine/treffen-svp-bundeshausfraktion-mit-den-kantonalen-fraktionspraesidenten/
TRANSP:OPAQUE
END:VEVENT
END:VCALENDAR
