BEGIN:VCALENDAR
VERSION:2.0
PRODID:-//SVP Luzern //NONSGML Events //EN
CALSCALE:GREGORIAN
X-WR-CALNAME:SVP Luzern
BEGIN:VEVENT
CREATED:20181221T111414Z
UID:10410
DTEND:20190312T220000
DTSTART:20190312T180000
DTSTAMP:20231024T055645Z
LOCATION:Bern
DESCRIPTION:Abend
SUMMARY:Parteileitung SVP CH
ORGANIZER:SVP CH
URL;VALUE=URI:https://www.svp-lu.ch/termine/parteileitung-svp-ch/
TRANSP:OPAQUE
END:VEVENT
END:VCALENDAR
