BEGIN:VCALENDAR
VERSION:2.0
PRODID:-//SVP Luzern //NONSGML Events //EN
CALSCALE:GREGORIAN
X-WR-CALNAME:SVP Luzern
BEGIN:VEVENT
CREATED:20181221T111414Z
UID:10411
DTEND:20190318T180000
DTSTART:20190318T140000
DTSTAMP:20231024T060306Z
LOCATION:Bern
DESCRIPTION:Nachmittag
SUMMARY:Treffen Bundesrichter
ORGANIZER:SVP CH
URL;VALUE=URI:https://www.svp-lu.ch/termine/treffen-bundesrichter/
TRANSP:OPAQUE
END:VEVENT
END:VCALENDAR
