BEGIN:VCALENDAR
VERSION:2.0
PRODID:-//SVP Luzern //NONSGML Events //EN
CALSCALE:GREGORIAN
X-WR-CALNAME:SVP Luzern
BEGIN:VEVENT
CREATED:20181221T111414Z
UID:10414
DTEND:20190325T000000
DTSTART:20190325T000000
DTSTAMP:20231024T060144Z
LOCATION:
DESCRIPTION:
SUMMARY:Kurier Redaktionsschluss
ORGANIZER:SVP LU
URL;VALUE=URI:https://www.svp-lu.ch/termine/kurier-redaktionsschluss/
TRANSP:OPAQUE
END:VEVENT
END:VCALENDAR
