BEGIN:VCALENDAR
VERSION:2.0
PRODID:-//SVP Luzern //NONSGML Events //EN
CALSCALE:GREGORIAN
X-WR-CALNAME:SVP Luzern
BEGIN:VEVENT
CREATED:20181221T111414Z
UID:10416
DTEND:20190329T190000
DTSTART:20190329T140000
DTSTAMP:20231024T055842Z
LOCATION:
DESCRIPTION:Nachmittag
SUMMARY:Parteileitung/Parteivorstand mit Sekretären
ORGANIZER:SVP CH
URL;VALUE=URI:https://www.svp-lu.ch/termine/parteileitung-parteivorstand-mit-sekretaeren-3/
TRANSP:OPAQUE
END:VEVENT
END:VCALENDAR
