BEGIN:VCALENDAR
VERSION:2.0
PRODID:-//SVP Luzern //NONSGML Events //EN
CALSCALE:GREGORIAN
X-WR-CALNAME:SVP Luzern
BEGIN:VEVENT
CREATED:20181221T111414Z
UID:10417
DTEND:20190330T150000
DTSTART:20190330T103000
DTSTAMP:20231024T055441Z
LOCATION:Amriswil TG
DESCRIPTION:
SUMMARY:Eidg. Delegiertenversammlung
ORGANIZER:SVP CH
URL;VALUE=URI:https://www.svp-lu.ch/termine/eidg-delegiertenversammlung-2/
TRANSP:OPAQUE
END:VEVENT
END:VCALENDAR
