BEGIN:VCALENDAR
VERSION:2.0
PRODID:-//SVP Luzern //NONSGML Events //EN
CALSCALE:GREGORIAN
X-WR-CALNAME:SVP Luzern
BEGIN:VEVENT
CREATED:20181221T111414Z
UID:10418
DTEND:20190331T000000
DTSTART:20190331T000000
DTSTAMP:20231024T060349Z
LOCATION:
DESCRIPTION:
SUMMARY:Beginn Sommerzeit
ORGANIZER:Feiertag
URL;VALUE=URI:https://www.svp-lu.ch/termine/beginn-sommerzeit/
TRANSP:OPAQUE
END:VEVENT
END:VCALENDAR
