BEGIN:VCALENDAR
VERSION:2.0
PRODID:-//SVP Luzern //NONSGML Events //EN
CALSCALE:GREGORIAN
X-WR-CALNAME:SVP Luzern
BEGIN:VEVENT
CREATED:20181221T111414Z
UID:10419
DTEND:20190331T000000
DTSTART:20190331T000000
DTSTAMP:20231024T055649Z
LOCATION:
DESCRIPTION:
SUMMARY:Wahlen KR &#038\; RR / Abstimmungen
ORGANIZER:Abstimmungen
URL;VALUE=URI:https://www.svp-lu.ch/termine/wahlen-kr-rr-abstimmungen/
TRANSP:OPAQUE
END:VEVENT
END:VCALENDAR
