BEGIN:VCALENDAR
VERSION:2.0
PRODID:-//SVP Luzern //NONSGML Events //EN
CALSCALE:GREGORIAN
X-WR-CALNAME:SVP Luzern
BEGIN:VEVENT
CREATED:20181221T111415Z
UID:10420
DTEND:20190406T120000
DTSTART:20190406T080000
DTSTAMP:20231024T055923Z
LOCATION:
DESCRIPTION:Vormittag
SUMMARY:Konferenz der SVP Schweiz mit den SVP-Regierungsräten
ORGANIZER:SVP CH
URL;VALUE=URI:https://www.svp-lu.ch/termine/konferenz-der-svp-schweiz-mit-den-svp-regierungsraeten/
TRANSP:OPAQUE
END:VEVENT
END:VCALENDAR
