BEGIN:VCALENDAR
VERSION:2.0
PRODID:-//SVP Luzern //NONSGML Events //EN
CALSCALE:GREGORIAN
X-WR-CALNAME:SVP Luzern
BEGIN:VEVENT
CREATED:20181221T111415Z
UID:10423
DTEND:20190414T000000
DTSTART:20190414T000000
DTSTAMP:20231024T060312Z
LOCATION:
DESCRIPTION:
SUMMARY:Palmsonntag
ORGANIZER:Feiertag
URL;VALUE=URI:https://www.svp-lu.ch/termine/palmsonntag/
TRANSP:OPAQUE
END:VEVENT
END:VCALENDAR
