BEGIN:VCALENDAR
VERSION:2.0
PRODID:-//SVP Luzern //NONSGML Events //EN
CALSCALE:GREGORIAN
X-WR-CALNAME:SVP Luzern
BEGIN:VEVENT
CREATED:20181221T111415Z
UID:10424
DTEND:20190415T000000
DTSTART:20190415T000000
DTSTAMP:20231024T060148Z
LOCATION:
DESCRIPTION:
SUMMARY:Versand Kurier
ORGANIZER:SVP LU
URL;VALUE=URI:https://www.svp-lu.ch/termine/versand-kurier/
TRANSP:OPAQUE
END:VEVENT
END:VCALENDAR
