BEGIN:VCALENDAR
VERSION:2.0
PRODID:-//SVP Luzern //NONSGML Events //EN
CALSCALE:GREGORIAN
X-WR-CALNAME:SVP Luzern
BEGIN:VEVENT
CREATED:20181221T111415Z
UID:10427
DTEND:20190505T000000
DTSTART:20190419T000000
DTSTAMP:20231024T055022Z
LOCATION:
DESCRIPTION:Osterferien
SUMMARY:Schulferien Kanton Luzern
ORGANIZER:Ferien
URL;VALUE=URI:https://www.svp-lu.ch/termine/schulferien-kanton-luzern-3/
TRANSP:OPAQUE
END:VEVENT
END:VCALENDAR
