BEGIN:VCALENDAR
VERSION:2.0
PRODID:-//SVP Luzern //NONSGML Events //EN
CALSCALE:GREGORIAN
X-WR-CALNAME:SVP Luzern
BEGIN:VEVENT
CREATED:20181221T111415Z
UID:10429
DTEND:20190422T000000
DTSTART:20190422T000000
DTSTAMP:20231024T055845Z
LOCATION:
DESCRIPTION:
SUMMARY:Ostermontag
ORGANIZER:Feiertag
URL;VALUE=URI:https://www.svp-lu.ch/termine/ostermontag/
TRANSP:OPAQUE
END:VEVENT
END:VCALENDAR
