BEGIN:VCALENDAR
VERSION:2.0
PRODID:-//SVP Luzern //NONSGML Events //EN
CALSCALE:GREGORIAN
X-WR-CALNAME:SVP Luzern
BEGIN:VEVENT
CREATED:20181221T111415Z
UID:10430
DTEND:20190425T220000
DTSTART:20190425T193000
DTSTAMP:20231024T055612Z
LOCATION:Rest. Vogelsang\, Eich
DESCRIPTION:Abend
SUMMARY:Sitzung Parteileitung 2019/04
ORGANIZER:SVP LU
URL;VALUE=URI:https://www.svp-lu.ch/termine/sitzung-parteileitung-2019-04/
TRANSP:OPAQUE
END:VEVENT
END:VCALENDAR
