BEGIN:VCALENDAR
VERSION:2.0
PRODID:-//SVP Luzern //NONSGML Events //EN
CALSCALE:GREGORIAN
X-WR-CALNAME:SVP Luzern
BEGIN:VEVENT
CREATED:20181221T111415Z
UID:10431
DTEND:20190505T180000
DTSTART:20190426T100000
DTSTAMP:20231024T054900Z
LOCATION:
DESCRIPTION:
SUMMARY:LUGA
ORGANIZER:SVP LU
URL;VALUE=URI:https://www.svp-lu.ch/termine/luga/
TRANSP:OPAQUE
END:VEVENT
END:VCALENDAR
