BEGIN:VCALENDAR
VERSION:2.0
PRODID:-//SVP Luzern //NONSGML Events //EN
CALSCALE:GREGORIAN
X-WR-CALNAME:SVP Luzern
BEGIN:VEVENT
CREATED:20181221T111415Z
UID:10432
DTEND:20190510T000000
DTSTART:20190506T000000
DTSTAMP:20231024T055903Z
LOCATION:Bern
DESCRIPTION:
SUMMARY:Evt. Sondersession National- und Ständerat
ORGANIZER:SVP CH
URL;VALUE=URI:https://www.svp-lu.ch/termine/evt-sondersession-national-und-staenderat/
TRANSP:OPAQUE
END:VEVENT
END:VCALENDAR
