BEGIN:VCALENDAR
VERSION:2.0
PRODID:-//SVP Luzern //NONSGML Events //EN
CALSCALE:GREGORIAN
X-WR-CALNAME:SVP Luzern
BEGIN:VEVENT
CREATED:20181221T111415Z
UID:10433
DTEND:20190509T220000
DTSTART:20190509T200000
DTSTAMP:20231024T060319Z
LOCATION:Begegnungszentrum Schenkon
DESCRIPTION:Abend
SUMMARY:Kantonale Generalversammlung
ORGANIZER:SVP Wahlkreis Sursee
URL;VALUE=URI:https://www.svp-lu.ch/termine/kant-generalversammlung/
TRANSP:OPAQUE
END:VEVENT
END:VCALENDAR
