BEGIN:VCALENDAR
VERSION:2.0
PRODID:-//SVP Luzern //NONSGML Events //EN
CALSCALE:GREGORIAN
X-WR-CALNAME:SVP Luzern
BEGIN:VEVENT
CREATED:20181221T111416Z
UID:10435
DTEND:20190516T220000
DTSTART:20190516T180000
DTSTAMP:20231024T055343Z
LOCATION:
DESCRIPTION:Abend
SUMMARY:Grossstadtratssitzung Luzern
ORGANIZER:
URL;VALUE=URI:https://www.svp-lu.ch/termine/grossstadtratssitzung-luzern-5/
TRANSP:OPAQUE
END:VEVENT
END:VCALENDAR
