BEGIN:VCALENDAR
VERSION:2.0
PRODID:-//SVP Luzern //NONSGML Events //EN
CALSCALE:GREGORIAN
X-WR-CALNAME:SVP Luzern
BEGIN:VEVENT
CREATED:20181221T111416Z
UID:10437
DTEND:20190519T000000
DTSTART:20190519T000000
DTSTAMP:20231024T055750Z
LOCATION:
DESCRIPTION:Kantonale Abstimmung: Gesetz über die Aufgaben- und Finanzreform 18 (
SUMMARY:Eidg. und Kant. Abstimmungen
ORGANIZER:Abstimmungen
URL;VALUE=URI:https://www.svp-lu.ch/termine/eidg-und-kant-abstimmungen-3/
TRANSP:OPAQUE
END:VEVENT
END:VCALENDAR
