BEGIN:VCALENDAR
VERSION:2.0
PRODID:-//SVP Luzern //NONSGML Events //EN
CALSCALE:GREGORIAN
X-WR-CALNAME:SVP Luzern
BEGIN:VEVENT
CREATED:20181221T111416Z
UID:10442
DTEND:20190602T000000
DTSTART:20190530T000000
DTSTAMP:20231024T055154Z
LOCATION:
DESCRIPTION:Auffahrtsferien
SUMMARY:Schulferien Kanton Luzern
ORGANIZER:Ferien
URL;VALUE=URI:https://www.svp-lu.ch/termine/schulferien-kanton-luzern-5/
TRANSP:OPAQUE
END:VEVENT
END:VCALENDAR
