BEGIN:VCALENDAR
VERSION:2.0
PRODID:-//SVP Luzern //NONSGML Events //EN
CALSCALE:GREGORIAN
X-WR-CALNAME:SVP Luzern
BEGIN:VEVENT
CREATED:20181221T111416Z
UID:10443
DTEND:20190621T000000
DTSTART:20190603T000000
DTSTAMP:20231024T055057Z
LOCATION:Bern
DESCRIPTION:
SUMMARY:Session National- und Ständerat
ORGANIZER:SVP CH
URL;VALUE=URI:https://www.svp-lu.ch/termine/session-national-und-staenderat-3/
TRANSP:OPAQUE
END:VEVENT
END:VCALENDAR
