BEGIN:VCALENDAR
VERSION:2.0
PRODID:-//SVP Luzern //NONSGML Events //EN
CALSCALE:GREGORIAN
X-WR-CALNAME:SVP Luzern
BEGIN:VEVENT
CREATED:20181221T111416Z
UID:10445
DTEND:20190609T000000
DTSTART:20190609T000000
DTSTAMP:20231024T055357Z
LOCATION:
DESCRIPTION:
SUMMARY:Pfingsten
ORGANIZER:Feiertag
URL;VALUE=URI:https://www.svp-lu.ch/termine/pfingsten/
TRANSP:OPAQUE
END:VEVENT
END:VCALENDAR
