BEGIN:VCALENDAR
VERSION:2.0
PRODID:-//SVP Luzern //NONSGML Events //EN
CALSCALE:GREGORIAN
X-WR-CALNAME:SVP Luzern
BEGIN:VEVENT
CREATED:20181221T111416Z
UID:10446
DTEND:20190610T000000
DTSTART:20190610T000000
DTSTAMP:20231024T055337Z
LOCATION:
DESCRIPTION:
SUMMARY:Pfingstmontag
ORGANIZER:Feiertag
URL;VALUE=URI:https://www.svp-lu.ch/termine/pfingstmontag/
TRANSP:OPAQUE
END:VEVENT
END:VCALENDAR
