BEGIN:VCALENDAR
VERSION:2.0
PRODID:-//SVP Luzern //NONSGML Events //EN
CALSCALE:GREGORIAN
X-WR-CALNAME:SVP Luzern
BEGIN:VEVENT
CREATED:20181221T111416Z
UID:10447
DTEND:20190612T230000
DTSTART:20190612T130000
DTSTAMP:20231024T060350Z
LOCATION:
DESCRIPTION:Nachmittag/Abend
SUMMARY:Fraktionsausflug SVP Schweiz
ORGANIZER:SVP CH
URL;VALUE=URI:https://www.svp-lu.ch/termine/fraktionsausflug-svp-schweiz/
TRANSP:OPAQUE
END:VEVENT
END:VCALENDAR
