BEGIN:VCALENDAR
VERSION:2.0
PRODID:-//SVP Luzern //NONSGML Events //EN
CALSCALE:GREGORIAN
X-WR-CALNAME:SVP Luzern
BEGIN:VEVENT
CREATED:20181221T111417Z
UID:10448
DTEND:20190612T180000
DTSTART:20190612T140000
DTSTAMP:20231024T055548Z
LOCATION:Brandschutz Ettiswil AG Willisauerstrasse 21 6218 Ettiswil
DESCRIPTION:[gravityform id="9" title="true" description="true"]Beginn 14.00 Uhr.Â
SUMMARY:Kant. Fraktionssitzung
ORGANIZER:SVP LU
URL;VALUE=URI:https://www.svp-lu.ch/termine/kant-fraktionssitzung-4/
TRANSP:OPAQUE
END:VEVENT
END:VCALENDAR
