BEGIN:VCALENDAR
VERSION:2.0
PRODID:-//SVP Luzern //NONSGML Events //EN
CALSCALE:GREGORIAN
X-WR-CALNAME:SVP Luzern
BEGIN:VEVENT
CREATED:20181228T094448Z
UID:10574
DTEND:20190114T220000
DTSTART:20190114T200000
DTSTAMP:20231024T055346Z
LOCATION:Hotel Sonne\, Reiden
DESCRIPTION:
SUMMARY:Wahlveranstaltung Wahlkreis Willisau
ORGANIZER:SVP Reiden
URL;VALUE=URI:https://www.svp-lu.ch/termine/wahlveranstaltung-wahlkreis-willisau/
TRANSP:OPAQUE
END:VEVENT
END:VCALENDAR
