BEGIN:VCALENDAR
VERSION:2.0
PRODID:-//SVP Luzern //NONSGML Events //EN
CALSCALE:GREGORIAN
X-WR-CALNAME:SVP Luzern
BEGIN:VEVENT
CREATED:20190106T194934Z
UID:10725
DTEND:20190121T220000
DTSTART:20190121T200000
DTSTAMP:20231024T055451Z
LOCATION:Krone\, Wolhusen
DESCRIPTION:
SUMMARY:SVP Landwirtschaftskommission
ORGANIZER:LWK SVP Luzern
URL;VALUE=URI:https://www.svp-lu.ch/termine/svp-landwirtschaftskommission/
TRANSP:OPAQUE
END:VEVENT
END:VCALENDAR
