BEGIN:VCALENDAR
VERSION:2.0
PRODID:-//SVP Luzern //NONSGML Events //EN
CALSCALE:GREGORIAN
X-WR-CALNAME:SVP Luzern
BEGIN:VEVENT
CREATED:20190112T055403Z
UID:10866
DTEND:20190613T000000
DTSTART:20190613T000000
DTSTAMP:20231024T055252Z
LOCATION:@ home
DESCRIPTION:Die PL vom 13. Juni findet nicht statt. Die nächste PL findet am 22. 
SUMMARY:Abgesagt: Sitzung Parteileitung 2019/06
ORGANIZER:SVP LU
URL;VALUE=URI:https://www.svp-lu.ch/termine/sitzung-parteileitung-2019-06/
TRANSP:OPAQUE
END:VEVENT
END:VCALENDAR
