BEGIN:VCALENDAR
VERSION:2.0
PRODID:-//SVP Luzern //NONSGML Events //EN
CALSCALE:GREGORIAN
X-WR-CALNAME:SVP Luzern
BEGIN:VEVENT
CREATED:20190112T055403Z
UID:10867
DTEND:20190618T000000
DTSTART:20190617T000000
DTSTAMP:20231024T055858Z
LOCATION:Luzern
DESCRIPTION:
SUMMARY:Session Kantonsrat
ORGANIZER:SVP LU
URL;VALUE=URI:https://www.svp-lu.ch/termine/session-kantonsrat-6/
TRANSP:OPAQUE
END:VEVENT
END:VCALENDAR
