BEGIN:VCALENDAR
VERSION:2.0
PRODID:-//SVP Luzern //NONSGML Events //EN
CALSCALE:GREGORIAN
X-WR-CALNAME:SVP Luzern
BEGIN:VEVENT
CREATED:20190112T055403Z
UID:10868
DTEND:20190618T220000
DTSTART:20190618T190000
DTSTAMP:20231024T055850Z
LOCATION:
DESCRIPTION:Abend
SUMMARY:Präsidentenfeier Kantonsrat Luzern
ORGANIZER:SVP LU
URL;VALUE=URI:https://www.svp-lu.ch/termine/praesidentenfeier-kantonsrat-luzern/
TRANSP:OPAQUE
END:VEVENT
END:VCALENDAR
