BEGIN:VCALENDAR
VERSION:2.0
PRODID:-//SVP Luzern //NONSGML Events //EN
CALSCALE:GREGORIAN
X-WR-CALNAME:SVP Luzern
BEGIN:VEVENT
CREATED:20190112T055403Z
UID:10871
DTEND:20190627T220000
DTSTART:20190627T180000
DTSTAMP:20231024T060025Z
LOCATION:Aula SH Zentrum
DESCRIPTION:Abend
SUMMARY:Einwohnerratsstizung Horw
ORGANIZER:
URL;VALUE=URI:https://www.svp-lu.ch/termine/einwohnerratsstizung-horw-6/
TRANSP:OPAQUE
END:VEVENT
END:VCALENDAR
