BEGIN:VCALENDAR
VERSION:2.0
PRODID:-//SVP Luzern //NONSGML Events //EN
CALSCALE:GREGORIAN
X-WR-CALNAME:SVP Luzern
BEGIN:VEVENT
CREATED:20190112T055403Z
UID:10872
DTEND:20190628T190000
DTSTART:20190628T140000
DTSTAMP:20231024T060133Z
LOCATION:
DESCRIPTION:Nachmittag
SUMMARY:Parteileitung/Parteivorstand mit Sekretären
ORGANIZER:SVP CH
URL;VALUE=URI:https://www.svp-lu.ch/termine/parteileitung-parteivorstand-mit-sekretaeren-4/
TRANSP:OPAQUE
END:VEVENT
END:VCALENDAR
